BEGIN:VCALENDAR
VERSION:2.0
PRODID:-//ChamberMaster//Event Calendar 2.0//EN
METHOD:PUBLISH
X-PUBLISHED-TTL:P3D
REFRESH-INTERVAL:P3D
CALSCALE:GREGORIAN
BEGIN:VEVENT
DTSTART:20060712T220000Z
DTEND:20060713T033000Z
X-MICROSOFT-CDO-ALLDAYEVENT:FALSE
SUMMARY:Poker Classic
DESCRIPTION:
X-ALT-DESC;FMTTYPE=text/html:
LOCATION:Cypress Cove Resort
UID:e.7798.399
SEQUENCE:3
DTSTAMP:20260420T191717Z
URL:https://business.theosceolachamber.com/events/details/poker-classic-07-12-2006-399
END:VEVENT

END:VCALENDAR
