BEGIN:VCALENDAR
VERSION:2.0
PRODID:-//ChamberMaster//Event Calendar 2.0//EN
METHOD:PUBLISH
X-PUBLISHED-TTL:P3D
REFRESH-INTERVAL:P3D
CALSCALE:GREGORIAN
BEGIN:VEVENT
DTSTART:20190424T153000Z
DTEND:20190424T173000Z
X-MICROSOFT-CDO-ALLDAYEVENT:FALSE
SUMMARY:Poinciana Area Council Scholarship Awards Luncheon 2019
DESCRIPTION:Join the Poinciana Area Council as they honor four worthy graduating seniors from the Poinciana area and celebrate continuing education in Osceola County.  \n\n\n	This year students from Liberty High School\, Poinciana High School\, and New Dimensions High School will each receive a $500 scholarship to the school of their choice.  \n	Osceola County District 3 Commissioner Brandon Arrington will speak.\n	This luncheon is catered and served by students of the Poinciana High School Culinary Program.  Join us in honoring the awesome kids in this unique program!\n	Attendees are encouraged to bring a school supply donation for PAC's donation drive to benefit Poinciana schools in 2019-2020 school year.
X-ALT-DESC;FMTTYPE=text/html:<div style="color: rgb(51\, 51\, 51)\; font-family: Roboto\, sans-serif\; background-color: rgb(255\, 255\, 255)\; font-size: 9pt\; padding: 10px\;"><span style="font-size: 18px\;">Join the Poinciana Area Council as they honor four worthy graduating seniors from the Poinciana area and celebrate continuing education in Osceola County.&nbsp\;&nbsp\;</span></div>\n\n<ul style="padding: 0px 40px\; color: rgb(51\, 51\, 51)\; font-family: Roboto\, sans-serif\; background-color: rgb(255\, 255\, 255)\;">\n	<li style="font-size: 9pt\; padding: 10px\;"><span style="font-size: 14px\;">This year students from Liberty High School\, Poinciana High School\, and New Dimensions High School&nbsp\;will each receive a $500 scholarship&nbsp\;to the school of their choice.&nbsp\;&nbsp\;</span></li>\n	<li style="font-size: 13px\; padding: 10px\;"><span style="font-size: 14px\;">Osceola County District 3 Commissioner Brandon Arrington will speak.</span></li>\n	<li style="font-size: 13px\; padding: 10px\;"><span style="font-size: 14px\;">This luncheon is catered and served by students of the Poinciana High School Culinary Program.&nbsp\; Join us in honoring the awesome kids in this unique program!</span></li>\n	<li style="padding: 10px\;"><span style="font-size: 14px\;">Attendees are encouraged to bring a school supply donation for PAC&#39\;s donation drive to benefit Poinciana schools in 2019-2020&nbsp\;school year.</span></li>\n</ul>\n<br />\n&nbsp\;
LOCATION:Cafe 91 @ Eagles Kitchen Poinciana High School 2300 S Poinciana Blvd. Kissimmee\, FL 34758
UID:e.7798.1039
SEQUENCE:3
DTSTAMP:20260426T015157Z
URL:https://business.theosceolachamber.com/events/details/poinciana-area-council-scholarship-awards-luncheon-2019-1039
END:VEVENT

END:VCALENDAR
