BEGIN:VCALENDAR
VERSION:2.0
PRODID:-//ChamberMaster//Event Calendar 2.0//EN
METHOD:PUBLISH
X-PUBLISHED-TTL:P3D
REFRESH-INTERVAL:P3D
CALSCALE:GREGORIAN
BEGIN:VEVENT
DTSTART:20060810T213000Z
DTEND:20060811T000000Z
X-MICROSOFT-CDO-ALLDAYEVENT:FALSE
SUMMARY:Osceola Hob Nob 2006
DESCRIPTION:
X-ALT-DESC;FMTTYPE=text/html:
LOCATION:Kissimmee Civic Center
UID:e.7798.283
SEQUENCE:3
DTSTAMP:20260420T161121Z
URL:https://business.theosceolachamber.com/events/details/osceola-hob-nob-2006-283
END:VEVENT

END:VCALENDAR
