BEGIN:VCALENDAR
VERSION:2.0
PRODID:-//ChamberMaster//Event Calendar 2.0//EN
METHOD:PUBLISH
X-PUBLISHED-TTL:P3D
REFRESH-INTERVAL:P3D
CALSCALE:GREGORIAN
BEGIN:VEVENT
DTSTART:20060302T124500Z
DTEND:20060302T140000Z
X-MICROSOFT-CDO-ALLDAYEVENT:FALSE
SUMMARY:March Breakfast of Champions 2006
DESCRIPTION:
X-ALT-DESC;FMTTYPE=text/html:
LOCATION:Kissimmee Civic Center
UID:e.7798.326
SEQUENCE:3
DTSTAMP:20260421T010313Z
URL:https://business.theosceolachamber.com/events/details/march-breakfast-of-champions-2006-03-02-2006-326
END:VEVENT

END:VCALENDAR
