BEGIN:VCALENDAR
VERSION:2.0
PRODID:-//ChamberMaster//Event Calendar 2.0//EN
METHOD:PUBLISH
X-PUBLISHED-TTL:P3D
REFRESH-INTERVAL:P3D
CALSCALE:GREGORIAN
BEGIN:VEVENT
DTSTART:20200304T223000Z
DTEND:20200305T010000Z
X-MICROSOFT-CDO-ALLDAYEVENT:FALSE
SUMMARY:HBC: Business Under the Stars 2020
DESCRIPTION:Join the Hispanic Business Council at Osceola History's Pioneer Village for a night of networking\, entertainment\, giveaways\, food favorites\, and more!\n\n\n\nCome meet fellow business people\, or sign your business up as a vendor and greet attendees as they browse your booth.\n\n\n\nInterested in becoming a vendor?* \n\nClick here to download the vendor application.\n\n\n\n\n\n*All vendors must provide proof of liability insurance and a certificate listing the Kissimmee/Osceola County Chamber as additional insured.
X-ALT-DESC;FMTTYPE=text/html:<span style="font-size:14px\;"><span style="font-size:16px\;">Join the Hispanic Business Council at Osceola History&#39\;s Pioneer Village for a night of networking\, entertainment\, giveaways\, food favorites\, and more!<br />\n<br />\nCome meet fellow business people\, or sign your business up as a vendor and greet attendees as they browse your booth.</span><br />\n<br />\n<span style="font-size:20px\;">Interested in becoming a vendor?*&nbsp\;<br />\n<a href="https://chambermaster.blob.core.windows.net/userfiles/UserFiles/chambers/7798/File/2020BusinessUndertheStarsVendorApplicationRevised.pdf">Click here to download the vendor application.</a></span></span><br />\n<br />\n<br />\n<span style="font-size:14px\;">*All vendors must provide proof of liability insurance and a certificate listing the Kissimmee/Osceola County Chamber as additional insured.</span><br />\n<br />\n<br />\n<br />\n<br />\n&nbsp\;
LOCATION:Pioneer Village at Shingle Creek 2491 Babb Road. Kissimmee\, FL 34746
UID:e.7798.1117
SEQUENCE:3
DTSTAMP:20260425T123120Z
URL:https://business.theosceolachamber.com/events/details/hbc-business-under-the-stars-2020-1117
END:VEVENT

END:VCALENDAR
