BEGIN:VCALENDAR
VERSION:2.0
PRODID:-//ChamberMaster//Event Calendar 2.0//EN
METHOD:PUBLISH
X-PUBLISHED-TTL:P3D
REFRESH-INTERVAL:P3D
CALSCALE:GREGORIAN
BEGIN:VEVENT
DTSTART:20260317T123000Z
DTEND:20260317T133000Z
X-MICROSOFT-CDO-ALLDAYEVENT:FALSE
SUMMARY:Chamber 360 Member Orientation
DESCRIPTION:We are excited to invite you to our upcoming Chamber 360 Member Orientation\, designed to help both new and existing members get the most out of their Chamber experience.\n\nThis engaging one-hour session is a great opportunity to:\n\n\n	\n	Expand your network and build meaningful business connections\n	\n	\n	Learn about Chamber programs\, events\, and opportunities to grow your reach and visibility\n	\n	\n	Meet our Chamber staff and dedicated Ambassadors\n	\n	\n	Discover how to stay connected through our social media platforms\, Leads groups\, Councils\, and Coalitions\n	\n\n\nWhether you're new to the Chamber or looking to re-engage and explore new ways to maximize your membership\, this orientation will provide valuable insights and connections.\n\nWe encourage you to attend\, participate\, and take full advantage of everything The Osceola Chamber has to offer.\n\nWe look forward to welcoming you and helping you stay connected\, informed\, and inspired.
X-ALT-DESC;FMTTYPE=text/html:<p class="isSelectedEnd">We are excited to invite you to our upcoming <strong>Chamber 360 Member Orientation</strong>\, designed to help both new and existing members get the most out of their Chamber experience.</p>\n\n<p class="isSelectedEnd">This engaging one-hour session is a great opportunity to:</p>\n\n<ul data-spread="false">\n	<li>\n	<p class="isSelectedEnd">Expand your network and build meaningful business connections</p>\n	</li>\n	<li>\n	<p class="isSelectedEnd">Learn about Chamber programs\, events\, and opportunities to grow your reach and visibility</p>\n	</li>\n	<li>\n	<p class="isSelectedEnd">Meet our Chamber staff and dedicated Ambassadors</p>\n	</li>\n	<li>\n	<p class="isSelectedEnd">Discover how to stay connected through our social media platforms\, Leads groups\, Councils\, and Coalitions</p>\n	</li>\n</ul>\n\n<p class="isSelectedEnd">Whether you&rsquo\;re new to the Chamber or looking to re-engage and explore new ways to maximize your membership\, this orientation will provide valuable insights and connections.</p>\n\n<p class="isSelectedEnd">We encourage you to attend\, participate\, and take full advantage of everything The Osceola Chamber has to offer.</p>\n\n<p>We look forward to welcoming you and helping you stay connected\, informed\, and inspired.</p>\n
LOCATION:1425 E. Vine Street Kissimmee\, FL 34744
UID:e.7798.3432
SEQUENCE:3
DTSTAMP:20260425T024609Z
URL:https://business.theosceolachamber.com/events/details/chamber-360-member-orientation-3432
END:VEVENT

END:VCALENDAR
