BEGIN:VCALENDAR
VERSION:2.0
PRODID:-//ChamberMaster//Event Calendar 2.0//EN
METHOD:PUBLISH
X-PUBLISHED-TTL:P3D
REFRESH-INTERVAL:P3D
CALSCALE:GREGORIAN
BEGIN:VEVENT
DTSTART:20200303T210000Z
DTEND:20200303T230000Z
X-MICROSOFT-CDO-ALLDAYEVENT:FALSE
SUMMARY:CAC: Spring Kickoff Networking Event
DESCRIPTION:Come join your Celebration Area Council Board Members in their Spring Kickoff Event held in the beautiful 6th floor Skybar at Windsor at Celebration. This will be a networking/relationship building event. We will have some games and opportunities to meet new people in a fun environment. Admission includes appetizers and two drink tickets.
X-ALT-DESC;FMTTYPE=text/html:<span style="font-size:14px\;">Come join your Celebration Area Council Board Members in their Spring Kickoff Event held in the beautiful 6th floor Skybar at Windsor at Celebration. This will be a networking/relationship building event. We will have some games and opportunities to meet new people in a fun environment. Admission includes appetizers and two drink tickets.&nbsp\;</span>
LOCATION:Windsor at Celebration 1370 Celebration Blvd. Celebration\, FL 34747
UID:e.7798.1112
SEQUENCE:3
DTSTAMP:20260425T122907Z
URL:https://business.theosceolachamber.com/events/details/cac-spring-kickoff-networking-event-1112
END:VEVENT

END:VCALENDAR
