BEGIN:VCALENDAR
VERSION:2.0
PRODID:-//ChamberMaster//Event Calendar 2.0//EN
METHOD:PUBLISH
X-PUBLISHED-TTL:P3D
REFRESH-INTERVAL:P3D
CALSCALE:GREGORIAN
BEGIN:VEVENT
DTSTART:20200221T133000Z
DTEND:20200221T143000Z
X-MICROSOFT-CDO-ALLDAYEVENT:FALSE
SUMMARY:Breakfast for a Cause: Heart Health Sponsored By AdventHealth 2020
DESCRIPTION:In honor of American Heart Month\n\nKissimmee/Osceola Chamber of Commerce has partnered with AdventHealth to provide breakfast and a cardiac awareness discussion.\n\n\n\n Our guest speaker is to be determined.
X-ALT-DESC;FMTTYPE=text/html:<p style="border: 0px\; font-family: ff-dagny-web-pro\, Arial\, Helvetica\, sans-serif\; margin: 0px 0px 1em\; outline: 0px\; padding: 0px\; vertical-align: baseline\;"><span style="color: rgb(255\, 0\, 0)\; font-size: 14px\;"><span style="font-weight: 700\; font-family: &quot\;Neue Plak&quot\;\, -apple-system\, BlinkMacSystemFont\, Roboto\, &quot\;Helvetica Neue&quot\;\, Helvetica\, Tahoma\, Arial\, sans-serif\; font-size: x-large\; letter-spacing: 0.5px\;">In honor of American Heart Month</span></span><br />\n<span style="color: rgb(85\, 85\, 85)\; font-size: 16px\;"><span style="color:#FF0000\;"><span style="font-weight: 700\; font-family: &quot\;Neue Plak&quot\;\, -apple-system\, BlinkMacSystemFont\, Roboto\, &quot\;Helvetica Neue&quot\;\, Helvetica\, Tahoma\, Arial\, sans-serif\; letter-spacing: 0.5px\;">Kissimmee/Osceola Chamber of Commerce</span></span><span style="font-weight: 700\; color: rgb(69\, 73\, 78)\; font-family: &quot\;Neue Plak&quot\;\, -apple-system\, BlinkMacSystemFont\, Roboto\, &quot\;Helvetica Neue&quot\;\, Helvetica\, Tahoma\, Arial\, sans-serif\; letter-spacing: 0.5px\;"> </span><span style="color: rgb(69\, 73\, 78)\; font-family: &quot\;Neue Plak&quot\;\, -apple-system\, BlinkMacSystemFont\, Roboto\, &quot\;Helvetica Neue&quot\;\, Helvetica\, Tahoma\, Arial\, sans-serif\; letter-spacing: 0.5px\;">has partnered with&nbsp\;</span><span style="color:#FF0000\;"><span style="font-weight: 700\; font-family: &quot\;Neue Plak&quot\;\, -apple-system\, BlinkMacSystemFont\, Roboto\, &quot\;Helvetica Neue&quot\;\, Helvetica\, Tahoma\, Arial\, sans-serif\; letter-spacing: 0.5px\;">AdventHealth</span></span><span style="color: rgb(69\, 73\, 78)\; font-family: &quot\;Neue Plak&quot\;\, -apple-system\, BlinkMacSystemFont\, Roboto\, &quot\;Helvetica Neue&quot\;\, Helvetica\, Tahoma\, Arial\, sans-serif\; letter-spacing: 0.5px\;">&nbsp\;to&nbsp\;provide breakfast</span><span style="color: rgb(69\, 73\, 78)\; font-family: &quot\;Neue Plak&quot\;\, -apple-system\, BlinkMacSystemFont\, Roboto\, &quot\;Helvetica Neue&quot\;\, Helvetica\, Tahoma\, Arial\, sans-serif\; letter-spacing: 0.5px\;">&nbsp\;and a cardiac awareness discussion.</span></span><br />\n<br />\n&nbsp\;Our guest speaker is to be determined.&nbsp\;</p>\n
LOCATION:Kissimmee/Osceola Chamber of Commerce 1425 E. Vine Street Kissimmee\, FL 34741
UID:e.7798.1113
SEQUENCE:3
DTSTAMP:20260425T140028Z
URL:https://business.theosceolachamber.com/events/details/breakfast-for-a-cause-heart-health-sponsored-by-adventhealth-2020-1113
END:VEVENT

END:VCALENDAR
